Package: dagLogo Version: 1.47.0 Command: /home/biocbuild/R/R/bin/R CMD INSTALL dagLogo StartedAt: 2025-07-14 21:16:22 -0000 (Mon, 14 Jul 2025) EndedAt: 2025-07-14 21:17:19 -0000 (Mon, 14 Jul 2025) EllapsedTime: 57.1 seconds RetCode: 0 Status: OK