Package: dagLogo Version: 1.47.0 Command: /home/biocbuild/R/R/bin/R CMD build --keep-empty-dirs --no-resave-data dagLogo StartedAt: 2025-07-14 22:58:53 -0000 (Mon, 14 Jul 2025) EndedAt: 2025-07-14 23:01:03 -0000 (Mon, 14 Jul 2025) EllapsedTime: 130.0 seconds RetCode: 0 Status: OK PackageFile: dagLogo_1.47.0.tar.gz PackageFileSize: 2.496 MiB