Package: dagLogo Version: 1.47.0 Command: F:\biocbuild\bbs-3.22-bioc\R\bin\R.exe CMD check --no-multiarch --install=check:dagLogo.install-out.txt --library=F:\biocbuild\bbs-3.22-bioc\R\library --no-vignettes --timings dagLogo_1.47.0.tar.gz StartedAt: 2025-07-01 01:04:19 -0400 (Tue, 01 Jul 2025) EndedAt: 2025-07-01 01:11:20 -0400 (Tue, 01 Jul 2025) EllapsedTime: 421.0 seconds RetCode: 0 Status: OK CheckDir: dagLogo.Rcheck Warnings: 0