############################################################################## ############################################################################## ### ### Running command: ### ### rm -rf dagLogo.buildbin-libdir && mkdir dagLogo.buildbin-libdir && F:\biocbuild\bbs-3.22-bioc\R\bin\R.exe CMD INSTALL --build --library=dagLogo.buildbin-libdir dagLogo_1.47.0.tar.gz ### ############################################################################## ############################################################################## * installing *source* package 'dagLogo' ... ** this is package 'dagLogo' version '1.47.0' ** using staged installation ** R ** data *** moving datasets to lazyload DB ** inst ** byte-compile and prepare package for lazy loading No methods found in package 'GenomeInfoDb' for request: 'seqinfo' when loading 'TFBSTools' ** help *** installing help indices ** building package indices ** installing vignettes ** testing if installed package can be loaded from temporary location No methods found in package 'GenomeInfoDb' for request: 'seqinfo' when loading 'TFBSTools' ** testing if installed package can be loaded from final location No methods found in package 'GenomeInfoDb' for request: 'seqinfo' when loading 'TFBSTools' ** testing if installed package keeps a record of temporary installation path * MD5 sums packaged installation of 'dagLogo' as dagLogo_1.47.0.zip * DONE (dagLogo)