Package: dagLogo Version: 1.47.0 Command: /Library/Frameworks/R.framework/Resources/bin/R CMD INSTALL dagLogo StartedAt: 2025-06-29 15:41:56 -0400 (Sun, 29 Jun 2025) EndedAt: 2025-06-29 15:42:53 -0400 (Sun, 29 Jun 2025) EllapsedTime: 57.5 seconds RetCode: 0 Status: OK