Package: dagLogo Version: 1.47.0 Command: rm -rf dagLogo.buildbin-libdir && mkdir dagLogo.buildbin-libdir && /Users/biocbuild/BBS/utils/build-universal.sh dagLogo_1.47.0.tar.gz /Library/Frameworks/R.framework/Resources/bin/R dagLogo.buildbin-libdir StartedAt: 2025-07-01 00:36:30 -0400 (Tue, 01 Jul 2025) EndedAt: 2025-07-01 00:37:30 -0400 (Tue, 01 Jul 2025) EllapsedTime: 60.2 seconds RetCode: 0 Status: OK PackageFile: dagLogo_1.47.0.tgz PackageFileSize: 3.488 MiB