Package: dagLogo Version: 1.47.0 Command: /Library/Frameworks/R.framework/Resources/bin/R CMD INSTALL dagLogo StartedAt: 2025-07-01 15:26:26 -0400 (Tue, 01 Jul 2025) EndedAt: 2025-07-01 15:26:44 -0400 (Tue, 01 Jul 2025) EllapsedTime: 17.7 seconds RetCode: 0 Status: OK