Package: dada2 Version: 1.37.0 Command: F:\biocbuild\bbs-3.22-bioc\R\bin\R.exe CMD check --no-multiarch --install=check:dada2.install-out.txt --library=F:\biocbuild\bbs-3.22-bioc\R\library --no-vignettes --timings dada2_1.37.0.tar.gz StartedAt: 2025-07-22 01:07:20 -0400 (Tue, 22 Jul 2025) EndedAt: 2025-07-22 01:13:32 -0400 (Tue, 22 Jul 2025) EllapsedTime: 372.1 seconds RetCode: 0 Status: WARNINGS CheckDir: dada2.Rcheck Warnings: 1