Package: dada2 Version: 1.37.0 Command: chmod a+r dada2 -R && F:\biocbuild\bbs-3.22-bioc\R\bin\R.exe CMD build --keep-empty-dirs --no-resave-data dada2 StartedAt: 2025-07-20 18:20:18 -0400 (Sun, 20 Jul 2025) EndedAt: 2025-07-20 18:23:23 -0400 (Sun, 20 Jul 2025) EllapsedTime: 184.9 seconds RetCode: 0 Status: OK PackageFile: dada2_1.37.0.tar.gz PackageFileSize: 2.508 MiB