Package: dada2 Version: 1.37.0 Command: /Library/Frameworks/R.framework/Resources/bin/R CMD INSTALL dada2 StartedAt: 2025-07-14 15:26:35 -0400 (Mon, 14 Jul 2025) EndedAt: 2025-07-14 15:27:02 -0400 (Mon, 14 Jul 2025) EllapsedTime: 27.3 seconds RetCode: 0 Status: OK