Package: dada2 Version: 1.37.0 Command: /Library/Frameworks/R.framework/Resources/bin/R CMD build --keep-empty-dirs --no-resave-data dada2 StartedAt: 2025-07-14 16:02:45 -0400 (Mon, 14 Jul 2025) EndedAt: 2025-07-14 16:03:26 -0400 (Mon, 14 Jul 2025) EllapsedTime: 40.5 seconds RetCode: 0 Status: OK PackageFile: dada2_1.37.0.tar.gz PackageFileSize: 2.77 MiB