Package: daMA Version: 1.81.0 Command: /Library/Frameworks/R.framework/Resources/bin/R CMD build --keep-empty-dirs --no-resave-data daMA StartedAt: 2025-07-20 16:39:30 -0400 (Sun, 20 Jul 2025) EndedAt: 2025-07-20 16:39:32 -0400 (Sun, 20 Jul 2025) EllapsedTime: 2.3 seconds RetCode: 0 Status: OK PackageFile: daMA_1.81.0.tar.gz PackageFileSize: 4.026 MiB