Package: dStruct Version: 1.15.0 Command: F:\biocbuild\bbs-3.22-bioc\R\bin\R.exe CMD INSTALL dStruct StartedAt: 2025-06-29 15:32:58 -0400 (Sun, 29 Jun 2025) EndedAt: 2025-06-29 15:33:09 -0400 (Sun, 29 Jun 2025) EllapsedTime: 10.6 seconds RetCode: 0 Status: OK