Package: dStruct Version: 1.15.0 Command: F:\biocbuild\bbs-3.22-bioc\R\bin\R.exe CMD check --no-multiarch --install=check:dStruct.install-out.txt --library=F:\biocbuild\bbs-3.22-bioc\R\library --no-vignettes --timings dStruct_1.15.0.tar.gz StartedAt: 2025-06-30 01:26:00 -0400 (Mon, 30 Jun 2025) EndedAt: 2025-06-30 01:27:45 -0400 (Mon, 30 Jun 2025) EllapsedTime: 105.1 seconds RetCode: 0 Status: OK CheckDir: dStruct.Rcheck Warnings: 0