Package: dStruct Version: 1.15.0 Command: /home/biocbuild/bbs-3.22-bioc/R/bin/R CMD check --install=check:dStruct.install-out.txt --library=/home/biocbuild/bbs-3.22-bioc/R/site-library --timings dStruct_1.15.0.tar.gz StartedAt: 2025-06-29 21:53:35 -0400 (Sun, 29 Jun 2025) EndedAt: 2025-06-29 21:55:01 -0400 (Sun, 29 Jun 2025) EllapsedTime: 86.1 seconds RetCode: 0 Status: OK CheckDir: dStruct.Rcheck Warnings: 0