Package: dStruct Version: 1.15.0 Command: /Library/Frameworks/R.framework/Resources/bin/R CMD INSTALL dStruct StartedAt: 2025-07-16 15:07:23 -0400 (Wed, 16 Jul 2025) EndedAt: 2025-07-16 15:07:25 -0400 (Wed, 16 Jul 2025) EllapsedTime: 2.1 seconds RetCode: 0 Status: OK