Package: dStruct Version: 1.15.0 Command: rm -rf dStruct.buildbin-libdir && mkdir dStruct.buildbin-libdir && /Users/biocbuild/BBS/utils/build-universal.sh dStruct_1.15.0.tar.gz /Library/Frameworks/R.framework/Resources/bin/R dStruct.buildbin-libdir StartedAt: 2025-07-16 22:16:51 -0400 (Wed, 16 Jul 2025) EndedAt: 2025-07-16 22:16:53 -0400 (Wed, 16 Jul 2025) EllapsedTime: 2.1 seconds RetCode: 0 Status: OK PackageFile: dStruct_1.15.0.tgz PackageFileSize: 597.4 KiB