Package: cytoviewer Version: 1.9.0 Command: /home/biocbuild/R/R/bin/R CMD INSTALL cytoviewer StartedAt: 2025-07-24 21:41:55 -0000 (Thu, 24 Jul 2025) EndedAt: 2025-07-24 21:42:57 -0000 (Thu, 24 Jul 2025) EllapsedTime: 62.8 seconds RetCode: 0 Status: OK