Package: cytoviewer Version: 1.9.0 Command: F:\biocbuild\bbs-3.22-bioc\R\bin\R.exe CMD check --no-multiarch --install=check:cytoviewer.install-out.txt --library=F:\biocbuild\bbs-3.22-bioc\R\library --no-vignettes --timings cytoviewer_1.9.0.tar.gz StartedAt: 2025-07-19 01:07:48 -0400 (Sat, 19 Jul 2025) EndedAt: 2025-07-19 01:14:49 -0400 (Sat, 19 Jul 2025) EllapsedTime: 421.1 seconds RetCode: 0 Status: OK CheckDir: cytoviewer.Rcheck Warnings: 0