Package: cytoviewer Version: 1.9.0 Command: /Library/Frameworks/R.framework/Resources/bin/R CMD INSTALL cytoviewer StartedAt: 2025-07-22 15:12:23 -0400 (Tue, 22 Jul 2025) EndedAt: 2025-07-22 15:12:42 -0400 (Tue, 22 Jul 2025) EllapsedTime: 18.9 seconds RetCode: 0 Status: OK