Package: cytoviewer Version: 1.9.0 Command: rm -rf cytoviewer.buildbin-libdir && mkdir cytoviewer.buildbin-libdir && /Users/biocbuild/BBS/utils/build-universal.sh cytoviewer_1.9.0.tar.gz /Library/Frameworks/R.framework/Resources/bin/R cytoviewer.buildbin-libdir StartedAt: 2025-07-22 22:21:23 -0400 (Tue, 22 Jul 2025) EndedAt: 2025-07-22 22:21:44 -0400 (Tue, 22 Jul 2025) EllapsedTime: 21.5 seconds RetCode: 0 Status: OK PackageFile: cytoviewer_1.9.0.tgz PackageFileSize: 4.876 MiB