Package: cytomapper Version: 1.21.0 Command: F:\biocbuild\bbs-3.22-bioc\R\bin\R.exe CMD INSTALL cytomapper StartedAt: 2025-07-20 16:31:43 -0400 (Sun, 20 Jul 2025) EndedAt: 2025-07-20 16:33:23 -0400 (Sun, 20 Jul 2025) EllapsedTime: 100.7 seconds RetCode: 0 Status: OK