Package: cytomapper Version: 1.21.0 Command: F:\biocbuild\bbs-3.22-bioc\R\bin\R.exe CMD check --no-multiarch --install=check:cytomapper.install-out.txt --library=F:\biocbuild\bbs-3.22-bioc\R\library --no-vignettes --timings cytomapper_1.21.0.tar.gz StartedAt: 2025-07-22 01:05:22 -0400 (Tue, 22 Jul 2025) EndedAt: 2025-07-22 01:33:25 -0400 (Tue, 22 Jul 2025) EllapsedTime: 1683.3 seconds RetCode: 0 Status: OK CheckDir: cytomapper.Rcheck Warnings: 0