Package: cytomapper Version: 1.21.0 Command: chmod a+r cytomapper -R && F:\biocbuild\bbs-3.22-bioc\R\bin\R.exe CMD build --keep-empty-dirs --no-resave-data cytomapper StartedAt: 2025-07-20 18:19:12 -0400 (Sun, 20 Jul 2025) EndedAt: 2025-07-20 18:21:55 -0400 (Sun, 20 Jul 2025) EllapsedTime: 163.5 seconds RetCode: 0 Status: OK PackageFile: cytomapper_1.21.0.tar.gz PackageFileSize: 20.89 MiB