Package: cytomapper Version: 1.21.0 Command: rm -rf cytomapper.buildbin-libdir && mkdir cytomapper.buildbin-libdir && F:\biocbuild\bbs-3.22-bioc\R\bin\R.exe CMD INSTALL --build --library=cytomapper.buildbin-libdir cytomapper_1.21.0.tar.gz StartedAt: 2025-07-21 08:51:27 -0400 (Mon, 21 Jul 2025) EndedAt: 2025-07-21 08:54:35 -0400 (Mon, 21 Jul 2025) EllapsedTime: 187.7 seconds RetCode: 0 Status: OK PackageFile: cytomapper_1.21.0.zip PackageFileSize: 4.87 MiB