Package: cytolib Version: 2.21.0 Command: /home/biocbuild/R/R/bin/R CMD INSTALL cytolib StartedAt: 2025-06-30 20:21:25 -0000 (Mon, 30 Jun 2025) EndedAt: 2025-06-30 20:25:14 -0000 (Mon, 30 Jun 2025) EllapsedTime: 228.6 seconds RetCode: 0 Status: OK