Package: cytofQC Version: 1.9.0 Command: /home/biocbuild/R/R/bin/R CMD INSTALL cytofQC StartedAt: 2025-10-02 21:25:20 -0000 (Thu, 02 Oct 2025) EndedAt: 2025-10-02 21:26:06 -0000 (Thu, 02 Oct 2025) EllapsedTime: 46.8 seconds RetCode: 0 Status: OK