Package: cytofQC Version: 1.9.0 Command: /home/biocbuild/R/R/bin/R CMD build --keep-empty-dirs --no-resave-data cytofQC StartedAt: 2025-10-02 23:18:44 -0000 (Thu, 02 Oct 2025) EndedAt: 2025-10-02 23:20:36 -0000 (Thu, 02 Oct 2025) EllapsedTime: 112.1 seconds RetCode: 0 Status: OK PackageFile: cytofQC_1.9.0.tar.gz PackageFileSize: 1.289 MiB