Package: cytoMEM Version: 1.13.0 Command: /home/biocbuild/R/R/bin/R CMD build --keep-empty-dirs --no-resave-data cytoMEM StartedAt: 2025-10-06 23:03:37 -0000 (Mon, 06 Oct 2025) EndedAt: 2025-10-06 23:03:58 -0000 (Mon, 06 Oct 2025) EllapsedTime: 20.0 seconds RetCode: 0 Status: OK PackageFile: cytoMEM_1.13.0.tar.gz PackageFileSize: 2.981 MiB