Package: cytoMEM Version: 1.13.0 Command: /home/biocbuild/bbs-3.22-bioc/R/bin/R CMD INSTALL cytoMEM StartedAt: 2025-10-15 15:13:32 -0400 (Wed, 15 Oct 2025) EndedAt: 2025-10-15 15:13:40 -0400 (Wed, 15 Oct 2025) EllapsedTime: 7.4 seconds RetCode: 0 Status: OK