Package: cytoMEM Version: 1.13.0 Command: /home/biocbuild/bbs-3.22-bioc/R/bin/R CMD check --install=check:cytoMEM.install-out.txt --library=/home/biocbuild/bbs-3.22-bioc/R/site-library --timings cytoMEM_1.13.0.tar.gz StartedAt: 2025-10-15 23:25:11 -0400 (Wed, 15 Oct 2025) EndedAt: 2025-10-15 23:26:40 -0400 (Wed, 15 Oct 2025) EllapsedTime: 89.2 seconds RetCode: 0 Status: OK CheckDir: cytoMEM.Rcheck Warnings: 0