Package: cytoMEM Version: 1.13.0 Command: /Library/Frameworks/R.framework/Resources/bin/R CMD INSTALL cytoMEM StartedAt: 2025-10-06 15:15:07 -0400 (Mon, 06 Oct 2025) EndedAt: 2025-10-06 15:15:21 -0400 (Mon, 06 Oct 2025) EllapsedTime: 13.7 seconds RetCode: 0 Status: OK