Package: cytoMEM Version: 1.13.0 Command: /Library/Frameworks/R.framework/Resources/bin/R CMD check --install=check:cytoMEM.install-out.txt --library=/Library/Frameworks/R.framework/Resources/library --no-vignettes --timings cytoMEM_1.13.0.tar.gz StartedAt: 2025-10-06 20:56:35 -0400 (Mon, 06 Oct 2025) EndedAt: 2025-10-06 20:57:49 -0400 (Mon, 06 Oct 2025) EllapsedTime: 73.9 seconds RetCode: 0 Status: OK CheckDir: cytoMEM.Rcheck Warnings: 0