Package: cytoMEM Version: 1.13.0 Command: /Library/Frameworks/R.framework/Resources/bin/R CMD build --keep-empty-dirs --no-resave-data cytoMEM StartedAt: 2025-10-06 16:38:05 -0400 (Mon, 06 Oct 2025) EndedAt: 2025-10-06 16:38:28 -0400 (Mon, 06 Oct 2025) EllapsedTime: 22.9 seconds RetCode: 0 Status: OK PackageFile: cytoMEM_1.13.0.tar.gz PackageFileSize: 3.074 MiB