Package: cytoMEM Version: 1.13.0 Command: rm -rf cytoMEM.buildbin-libdir && mkdir cytoMEM.buildbin-libdir && /Users/biocbuild/BBS/utils/build-universal.sh cytoMEM_1.13.0.tar.gz /Library/Frameworks/R.framework/Resources/bin/R cytoMEM.buildbin-libdir StartedAt: 2025-10-07 02:05:43 -0400 (Tue, 07 Oct 2025) EndedAt: 2025-10-07 02:05:55 -0400 (Tue, 07 Oct 2025) EllapsedTime: 12.8 seconds RetCode: 0 Status: OK PackageFile: cytoMEM_1.13.0.tgz PackageFileSize: 3.121 MiB