Package: cytoMEM Version: 1.13.0 Command: /Library/Frameworks/R.framework/Resources/bin/R CMD build --keep-empty-dirs --no-resave-data cytoMEM StartedAt: 2025-10-12 16:05:41 -0400 (Sun, 12 Oct 2025) EndedAt: 2025-10-12 16:05:49 -0400 (Sun, 12 Oct 2025) EllapsedTime: 8.1 seconds RetCode: 0 Status: OK PackageFile: cytoMEM_1.13.0.tar.gz PackageFileSize: 3.075 MiB