Package: cytoMEM Version: 1.13.0 Maintainer: Jonathan Irish MaintainerEmail: jonathan.irish at vanderbilt.edu git_url: https://git.bioconductor.org/packages/cytoMEM git_branch: devel git_last_commit: 268779d git_last_commit_date: 2025-04-15 12:48:59 -0400 (Tue, 15 Apr 2025)