Package: cypress Version: 1.5.0 Command: /home/biocbuild/R/R/bin/R CMD build --keep-empty-dirs --no-resave-data cypress StartedAt: 2025-06-30 22:57:35 -0000 (Mon, 30 Jun 2025) EndedAt: 2025-06-30 23:04:38 -0000 (Mon, 30 Jun 2025) EllapsedTime: 423.2 seconds RetCode: 0 Status: OK PackageFile: cypress_1.5.0.tar.gz PackageFileSize: 2.146 MiB