Package: cydar Version: 1.33.0 Command: F:\biocbuild\bbs-3.22-bioc\R\bin\R.exe CMD check --no-multiarch --install=check:cydar.install-out.txt --library=F:\biocbuild\bbs-3.22-bioc\R\library --no-vignettes --timings cydar_1.33.0.tar.gz StartedAt: 2025-07-02 00:54:11 -0400 (Wed, 02 Jul 2025) EndedAt: 2025-07-02 00:59:15 -0400 (Wed, 02 Jul 2025) EllapsedTime: 304.3 seconds RetCode: 0 Status: OK CheckDir: cydar.Rcheck Warnings: 0