Package: cydar Version: 1.33.0 Command: /Library/Frameworks/R.framework/Resources/bin/R CMD check --install=check:cydar.install-out.txt --library=/Library/Frameworks/R.framework/Resources/library --no-vignettes --timings cydar_1.33.0.tar.gz StartedAt: 2025-07-07 20:04:59 -0400 (Mon, 07 Jul 2025) EndedAt: 2025-07-07 20:09:31 -0400 (Mon, 07 Jul 2025) EllapsedTime: 271.1 seconds RetCode: 0 Status: OK CheckDir: cydar.Rcheck Warnings: 0