Package: cydar Version: 1.33.0 Command: rm -rf cydar.buildbin-libdir && mkdir cydar.buildbin-libdir && /Users/biocbuild/BBS/utils/build-universal.sh cydar_1.33.0.tar.gz /Library/Frameworks/R.framework/Resources/bin/R cydar.buildbin-libdir StartedAt: 2025-07-08 00:48:28 -0400 (Tue, 08 Jul 2025) EndedAt: 2025-07-08 00:49:32 -0400 (Tue, 08 Jul 2025) EllapsedTime: 63.5 seconds RetCode: 0 Status: OK PackageFile: cydar_1.33.0.tgz PackageFileSize: 1.46 MiB