Package: customProDB Version: 1.49.0 Command: /home/biocbuild/R/R/bin/R CMD check --install=check:customProDB.install-out.txt --library=/home/biocbuild/R/R/site-library --no-vignettes --timings customProDB_1.49.0.tar.gz StartedAt: 2025-07-15 06:19:50 -0000 (Tue, 15 Jul 2025) EndedAt: 2025-07-15 06:26:05 -0000 (Tue, 15 Jul 2025) EllapsedTime: 375.3 seconds RetCode: 0 Status: WARNINGS CheckDir: customProDB.Rcheck Warnings: 1