Package: customProDB Version: 1.49.0 Command: F:\biocbuild\bbs-3.22-bioc\R\bin\R.exe CMD check --no-multiarch --install=check:customProDB.install-out.txt --library=F:\biocbuild\bbs-3.22-bioc\R\library --no-vignettes --timings customProDB_1.49.0.tar.gz StartedAt: 2025-07-16 00:55:08 -0400 (Wed, 16 Jul 2025) EndedAt: 2025-07-16 01:01:08 -0400 (Wed, 16 Jul 2025) EllapsedTime: 359.3 seconds RetCode: 0 Status: WARNINGS CheckDir: customProDB.Rcheck Warnings: 1