Package: cummeRbund Version: 2.51.0 Command: /Library/Frameworks/R.framework/Resources/bin/R CMD check --install=check:cummeRbund.install-out.txt --library=/Library/Frameworks/R.framework/Resources/library --no-vignettes --timings cummeRbund_2.51.0.tar.gz StartedAt: 2025-07-14 18:45:54 -0400 (Mon, 14 Jul 2025) EndedAt: 2025-07-14 18:48:17 -0400 (Mon, 14 Jul 2025) EllapsedTime: 143.6 seconds RetCode: 0 Status: WARNINGS CheckDir: cummeRbund.Rcheck Warnings: 1