Package: cummeRbund Version: 2.51.0 Command: rm -rf cummeRbund.buildbin-libdir && mkdir cummeRbund.buildbin-libdir && /Users/biocbuild/BBS/utils/build-universal.sh cummeRbund_2.51.0.tar.gz /Library/Frameworks/R.framework/Resources/bin/R cummeRbund.buildbin-libdir StartedAt: 2025-07-15 22:17:28 -0400 (Tue, 15 Jul 2025) EndedAt: 2025-07-15 22:17:53 -0400 (Tue, 15 Jul 2025) EllapsedTime: 25.6 seconds RetCode: 0 Status: OK PackageFile: cummeRbund_2.51.0.tgz PackageFileSize: 3.607 MiB