Package: ctsGE Version: 1.35.0 Command: F:\biocbuild\bbs-3.22-bioc\R\bin\R.exe CMD INSTALL ctsGE StartedAt: 2025-07-22 15:46:02 -0400 (Tue, 22 Jul 2025) EndedAt: 2025-07-22 15:46:23 -0400 (Tue, 22 Jul 2025) EllapsedTime: 21.2 seconds RetCode: 0 Status: OK