Package: ctsGE Version: 1.35.0 Command: F:\biocbuild\bbs-3.22-bioc\R\bin\R.exe CMD check --no-multiarch --install=check:ctsGE.install-out.txt --library=F:\biocbuild\bbs-3.22-bioc\R\library --no-vignettes --timings ctsGE_1.35.0.tar.gz StartedAt: 2025-07-23 00:59:24 -0400 (Wed, 23 Jul 2025) EndedAt: 2025-07-23 01:00:30 -0400 (Wed, 23 Jul 2025) EllapsedTime: 66.3 seconds RetCode: 0 Status: OK CheckDir: ctsGE.Rcheck Warnings: 0