Package: ctsGE Version: 1.35.0 Command: chmod a+r ctsGE -R && F:\biocbuild\bbs-3.22-bioc\R\bin\R.exe CMD build --keep-empty-dirs --no-resave-data ctsGE StartedAt: 2025-07-22 18:18:29 -0400 (Tue, 22 Jul 2025) EndedAt: 2025-07-22 18:19:05 -0400 (Tue, 22 Jul 2025) EllapsedTime: 35.8 seconds RetCode: 0 Status: OK PackageFile: ctsGE_1.35.0.tar.gz PackageFileSize: 718.1 KiB