Package: ctsGE Version: 1.35.0 Command: rm -rf ctsGE.buildbin-libdir && mkdir ctsGE.buildbin-libdir && F:\biocbuild\bbs-3.22-bioc\R\bin\R.exe CMD INSTALL --build --library=ctsGE.buildbin-libdir ctsGE_1.35.0.tar.gz StartedAt: 2025-07-23 08:54:10 -0400 (Wed, 23 Jul 2025) EndedAt: 2025-07-23 08:54:30 -0400 (Wed, 23 Jul 2025) EllapsedTime: 20.2 seconds RetCode: 0 Status: OK PackageFile: ctsGE_1.35.0.zip PackageFileSize: 762.8 KiB