Package: ctc Version: 1.83.0 Command: F:\biocbuild\bbs-3.22-bioc\R\bin\R.exe CMD INSTALL ctc StartedAt: 2025-07-24 15:28:40 -0400 (Thu, 24 Jul 2025) EndedAt: 2025-07-24 15:29:09 -0400 (Thu, 24 Jul 2025) EllapsedTime: 28.7 seconds RetCode: 0 Status: OK